Workbook

Sheet Lista
A1: Lp. | B1: Gość lub para | C1: Strona | D1: Dorośli | E1: Dzieci | F1: Zaproszenie | G1: RSVP | H1: Nocleg | I1: Transport | J1: Dieta | K1: Stolik | L1: Zdjęcie grupowe | M1: Telefon | N1: Uwagi
A2: =IF(B2="","",ROW()-1) | B2: Rodzice Panny Młodej (przykład, usuńcie) | C2: Panna Młoda | D2: 2 | E2: 0 | F2: Wręczone | G2: Potwierdzone | K2: 1 | L2: tak | O2: =IF(AND(B2<>"",L2<>"",G2<>"Odmowa"),COUNTIFS($B$2:B2,"<>",$L$2:L2,"<>",$G$2:G2,"<>Odmowa"),"") | P2: =IF(AND(B2<>"",H2<>"",G2<>"Odmowa"),COUNTIFS($B$2:B2,"<>",$H$2:H2,"<>",$G$2:G2,"<>Odmowa"),"") | Q2: =IF(AND(B2<>"",I2<>"",G2<>"Odmowa"),COUNTIFS($B$2:B2,"<>",$I$2:I2,"<>",$G$2:G2,"<>Odmowa"),"") | R2: =IF(AND(B2<>"",J2<>"",G2<>"Odmowa"),COUNTIFS($B$2:B2,"<>",$J$2:J2,"<>",$G$2:G2,"<>Odmowa"),"")
A3: =IF(B3="","",ROW()-1) | B3: Ciocia Basia z wujkiem (przykład, usuńcie) | C3: Panna Młoda | D3: 2 | E3: 0 | F3: Wysłane | G3: Czeka na odpowiedź | H3: tak | I3: tak | K3: 3 | O3: =IF(AND(B3<>"",L3<>"",G3<>"Odmowa"),COUNTIFS($B$2:B3,"<>",$L$2:L3,"<>",$G$2:G3,"<>Odmowa"),"") | P3: =IF(AND(B3<>"",H3<>"",G3<>"Odmowa"),COUNTIFS($B$2:B3,"<>",$H$2:H3,"<>",$G$2:G3,"<>Odmowa"),"") | Q3: =IF(AND(B3<>"",I3<>"",G3<>"Odmowa"),COUNTIFS($B$2:B3,"<>",$I$2:I3,"<>",$G$2:G3,"<>Odmowa"),"") | R3: =IF(AND(B3<>"",J3<>"",G3<>"Odmowa"),COUNTIFS($B$2:B3,"<>",$J$2:J3,"<>",$G$2:G3,"<>Odmowa"),"")
A4: =IF(B4="","",ROW()-1) | B4: Ania i Michał z córką (przykład, usuńcie) | C4: Wspólni | D4: 2 | E4: 1 | F4: Wręczone | G4: Potwierdzone | J4: wegetariańska | K4: 5 | O4: =IF(AND(B4<>"",L4<>"",G4<>"Odmowa"),COUNTIFS($B$2:B4,"<>",$L$2:L4,"<>",$G$2:G4,"<>Odmowa"),"") | P4: =IF(AND(B4<>"",H4<>"",G4<>"Odmowa"),COUNTIFS($B$2:B4,"<>",$H$2:H4,"<>",$G$2:G4,"<>Odmowa"),"") | Q4: =IF(AND(B4<>"",I4<>"",G4<>"Odmowa"),COUNTIFS($B$2:B4,"<>",$I$2:I4,"<>",$G$2:G4,"<>Odmowa"),"") | R4: =IF(AND(B4<>"",J4<>"",G4<>"Odmowa"),COUNTIFS($B$2:B4,"<>",$J$2:J4,"<>",$G$2:G4,"<>Odmowa"),"")
A5: =IF(B5="","",ROW()-1) | O5: =IF(AND(B5<>"",L5<>"",G5<>"Odmowa"),COUNTIFS($B$2:B5,"<>",$L$2:L5,"<>",$G$2:G5,"<>Odmowa"),"") | P5: =IF(AND(B5<>"",H5<>"",G5<>"Odmowa"),COUNTIFS($B$2:B5,"<>",$H$2:H5,"<>",$G$2:G5,"<>Odmowa"),"") | Q5: =IF(AND(B5<>"",I5<>"",G5<>"Odmowa"),COUNTIFS($B$2:B5,"<>",$I$2:I5,"<>",$G$2:G5,"<>Odmowa"),"") | R5: =IF(AND(B5<>"",J5<>"",G5<>"Odmowa"),COUNTIFS($B$2:B5,"<>",$J$2:J5,"<>",$G$2:G5,"<>Odmowa"),"")
A6: =IF(B6="","",ROW()-1) | O6: =IF(AND(B6<>"",L6<>"",G6<>"Odmowa"),COUNTIFS($B$2:B6,"<>",$L$2:L6,"<>",$G$2:G6,"<>Odmowa"),"") | P6: =IF(AND(B6<>"",H6<>"",G6<>"Odmowa"),COUNTIFS($B$2:B6,"<>",$H$2:H6,"<>",$G$2:G6,"<>Odmowa"),"") | Q6: =IF(AND(B6<>"",I6<>"",G6<>"Odmowa"),COUNTIFS($B$2:B6,"<>",$I$2:I6,"<>",$G$2:G6,"<>Odmowa"),"") | R6: =IF(AND(B6<>"",J6<>"",G6<>"Odmowa"),COUNTIFS($B$2:B6,"<>",$J$2:J6,"<>",$G$2:G6,"<>Odmowa"),"")
A7: =IF(B7="","",ROW()-1) | O7: =IF(AND(B7<>"",L7<>"",G7<>"Odmowa"),COUNTIFS($B$2:B7,"<>",$L$2:L7,"<>",$G$2:G7,"<>Odmowa"),"") | P7: =IF(AND(B7<>"",H7<>"",G7<>"Odmowa"),COUNTIFS($B$2:B7,"<>",$H$2:H7,"<>",$G$2:G7,"<>Odmowa"),"") | Q7: =IF(AND(B7<>"",I7<>"",G7<>"Odmowa"),COUNTIFS($B$2:B7,"<>",$I$2:I7,"<>",$G$2:G7,"<>Odmowa"),"") | R7: =IF(AND(B7<>"",J7<>"",G7<>"Odmowa"),COUNTIFS($B$2:B7,"<>",$J$2:J7,"<>",$G$2:G7,"<>Odmowa"),"")
A8: =IF(B8="","",ROW()-1) | O8: =IF(AND(B8<>"",L8<>"",G8<>"Odmowa"),COUNTIFS($B$2:B8,"<>",$L$2:L8,"<>",$G$2:G8,"<>Odmowa"),"") | P8: =IF(AND(B8<>"",H8<>"",G8<>"Odmowa"),COUNTIFS($B$2:B8,"<>",$H$2:H8,"<>",$G$2:G8,"<>Odmowa"),"") | Q8: =IF(AND(B8<>"",I8<>"",G8<>"Odmowa"),COUNTIFS($B$2:B8,"<>",$I$2:I8,"<>",$G$2:G8,"<>Odmowa"),"") | R8: =IF(AND(B8<>"",J8<>"",G8<>"Odmowa"),COUNTIFS($B$2:B8,"<>",$J$2:J8,"<>",$G$2:G8,"<>Odmowa"),"")
A9: =IF(B9="","",ROW()-1) | O9: =IF(AND(B9<>"",L9<>"",G9<>"Odmowa"),COUNTIFS($B$2:B9,"<>",$L$2:L9,"<>",$G$2:G9,"<>Odmowa"),"") | P9: =IF(AND(B9<>"",H9<>"",G9<>"Odmowa"),COUNTIFS($B$2:B9,"<>",$H$2:H9,"<>",$G$2:G9,"<>Odmowa"),"") | Q9: =IF(AND(B9<>"",I9<>"",G9<>"Odmowa"),COUNTIFS($B$2:B9,"<>",$I$2:I9,"<>",$G$2:G9,"<>Odmowa"),"") | R9: =IF(AND(B9<>"",J9<>"",G9<>"Odmowa"),COUNTIFS($B$2:B9,"<>",$J$2:J9,"<>",$G$2:G9,"<>Odmowa"),"")
A10: =IF(B10="","",ROW()-1) | O10: =IF(AND(B10<>"",L10<>"",G10<>"Odmowa"),COUNTIFS($B$2:B10,"<>",$L$2:L10,"<>",$G$2:G10,"<>Odmowa"),"") | P10: =IF(AND(B10<>"",H10<>"",G10<>"Odmowa"),COUNTIFS($B$2:B10,"<>",$H$2:H10,"<>",$G$2:G10,"<>Odmowa"),"") | Q10: =IF(AND(B10<>"",I10<>"",G10<>"Odmowa"),COUNTIFS($B$2:B10,"<>",$I$2:I10,"<>",$G$2:G10,"<>Odmowa"),"") | R10: =IF(AND(B10<>"",J10<>"",G10<>"Odmowa"),COUNTIFS($B$2:B10,"<>",$J$2:J10,"<>",$G$2:G10,"<>Odmowa"),"")
A11: =IF(B11="","",ROW()-1) | O11: =IF(AND(B11<>"",L11<>"",G11<>"Odmowa"),COUNTIFS($B$2:B11,"<>",$L$2:L11,"<>",$G$2:G11,"<>Odmowa"),"") | P11: =IF(AND(B11<>"",H11<>"",G11<>"Odmowa"),COUNTIFS($B$2:B11,"<>",$H$2:H11,"<>",$G$2:G11,"<>Odmowa"),"") | Q11: =IF(AND(B11<>"",I11<>"",G11<>"Odmowa"),COUNTIFS($B$2:B11,"<>",$I$2:I11,"<>",$G$2:G11,"<>Odmowa"),"") | R11: =IF(AND(B11<>"",J11<>"",G11<>"Odmowa"),COUNTIFS($B$2:B11,"<>",$J$2:J11,"<>",$G$2:G11,"<>Odmowa"),"")
A12: =IF(B12="","",ROW()-1) | O12: =IF(AND(B12<>"",L12<>"",G12<>"Odmowa"),COUNTIFS($B$2:B12,"<>",$L$2:L12,"<>",$G$2:G12,"<>Odmowa"),"") | P12: =IF(AND(B12<>"",H12<>"",G12<>"Odmowa"),COUNTIFS($B$2:B12,"<>",$H$2:H12,"<>",$G$2:G12,"<>Odmowa"),"") | Q12: =IF(AND(B12<>"",I12<>"",G12<>"Odmowa"),COUNTIFS($B$2:B12,"<>",$I$2:I12,"<>",$G$2:G12,"<>Odmowa"),"") | R12: =IF(AND(B12<>"",J12<>"",G12<>"Odmowa"),COUNTIFS($B$2:B12,"<>",$J$2:J12,"<>",$G$2:G12,"<>Odmowa"),"")
A13: =IF(B13="","",ROW()-1) | O13: =IF(AND(B13<>"",L13<>"",G13<>"Odmowa"),COUNTIFS($B$2:B13,"<>",$L$2:L13,"<>",$G$2:G13,"<>Odmowa"),"") | P13: =IF(AND(B13<>"",H13<>"",G13<>"Odmowa"),COUNTIFS($B$2:B13,"<>",$H$2:H13,"<>",$G$2:G13,"<>Odmowa"),"") | Q13: =IF(AND(B13<>"",I13<>"",G13<>"Odmowa"),COUNTIFS($B$2:B13,"<>",$I$2:I13,"<>",$G$2:G13,"<>Odmowa"),"") | R13: =IF(AND(B13<>"",J13<>"",G13<>"Odmowa"),COUNTIFS($B$2:B13,"<>",$J$2:J13,"<>",$G$2:G13,"<>Odmowa"),"")
A14: =IF(B14="","",ROW()-1) | O14: =IF(AND(B14<>"",L14<>"",G14<>"Odmowa"),COUNTIFS($B$2:B14,"<>",$L$2:L14,"<>",$G$2:G14,"<>Odmowa"),"") | P14: =IF(AND(B14<>"",H14<>"",G14<>"Odmowa"),COUNTIFS($B$2:B14,"<>",$H$2:H14,"<>",$G$2:G14,"<>Odmowa"),"") | Q14: =IF(AND(B14<>"",I14<>"",G14<>"Odmowa"),COUNTIFS($B$2:B14,"<>",$I$2:I14,"<>",$G$2:G14,"<>Odmowa"),"") | R14: =IF(AND(B14<>"",J14<>"",G14<>"Odmowa"),COUNTIFS($B$2:B14,"<>",$J$2:J14,"<>",$G$2:G14,"<>Odmowa"),"")
A15: =IF(B15="","",ROW()-1) | O15: =IF(AND(B15<>"",L15<>"",G15<>"Odmowa"),COUNTIFS($B$2:B15,"<>",$L$2:L15,"<>",$G$2:G15,"<>Odmowa"),"") | P15: =IF(AND(B15<>"",H15<>"",G15<>"Odmowa"),COUNTIFS($B$2:B15,"<>",$H$2:H15,"<>",$G$2:G15,"<>Odmowa"),"") | Q15: =IF(AND(B15<>"",I15<>"",G15<>"Odmowa"),COUNTIFS($B$2:B15,"<>",$I$2:I15,"<>",$G$2:G15,"<>Odmowa"),"") | R15: =IF(AND(B15<>"",J15<>"",G15<>"Odmowa"),COUNTIFS($B$2:B15,"<>",$J$2:J15,"<>",$G$2:G15,"<>Odmowa"),"")
A16: =IF(B16="","",ROW()-1) | O16: =IF(AND(B16<>"",L16<>"",G16<>"Odmowa"),COUNTIFS($B$2:B16,"<>",$L$2:L16,"<>",$G$2:G16,"<>Odmowa"),"") | P16: =IF(AND(B16<>"",H16<>"",G16<>"Odmowa"),COUNTIFS($B$2:B16,"<>",$H$2:H16,"<>",$G$2:G16,"<>Odmowa"),"") | Q16: =IF(AND(B16<>"",I16<>"",G16<>"Odmowa"),COUNTIFS($B$2:B16,"<>",$I$2:I16,"<>",$G$2:G16,"<>Odmowa"),"") | R16: =IF(AND(B16<>"",J16<>"",G16<>"Odmowa"),COUNTIFS($B$2:B16,"<>",$J$2:J16,"<>",$G$2:G16,"<>Odmowa"),"")
... A201: =IF(B201="","",ROW()-1) | O201: =IF(AND(B201<>"",L201<>"",G201<>"Odmowa"),COUNTIFS($B$2:B201,"<>",$L$2:L201,"<>",$G$2:G201,"<>Odmowa"),"") | P201: =IF(AND(B201<>"",H201<>"",G201<>"Odmowa"),COUNTIFS($B$2:B201,"<>",$H$2:H201,"<>",$G$2:G201,"<>Odmowa"),"") | Q201: =IF(AND(B201<>"",I201<>"",G201<>"Odmowa"),COUNTIFS($B$2:B201,"<>",$I$2:I201,"<>",$G$2:G201,"<>Odmowa"),"") | R201: =IF(AND(B201<>"",J201<>"",G201<>"Odmowa"),COUNTIFS($B$2:B201,"<>",$J$2:J201,"<>",$G$2:G201,"<>Odmowa"),"")

Sheet Podsumowanie
A1: Podsumowanie listy gości
B2: Osoby | D2: Osoby przy stolikach (bez odmów)
A3: Zaproszeni | B3: =SUM('Lista'!$D$2:$D$201)+SUM('Lista'!$E$2:$E$201) | D3: Stolik | E3: Osoby
A4: Potwierdzeni | B4: =SUMIFS('Lista'!$D$2:$D$201,'Lista'!$G$2:$G$201,"Potwierdzone")+SUMIFS('Lista'!$E$2:$E$201,'Lista'!$G$2:$G$201,"Potwierdzone") | D4: 1 | E4: =SUMIFS('Lista'!$D$2:$D$201,'Lista'!$K$2:$K$201,D4,'Lista'!$G$2:$G$201,"<>Odmowa")+SUMIFS('Lista'!$E$2:$E$201,'Lista'!$K$2:$K$201,D4,'Lista'!$G$2:$G$201,"<>Odmowa")
A5: Czekamy na odpowiedź | B5: =SUMIFS('Lista'!$D$2:$D$201,'Lista'!$G$2:$G$201,"Czeka na odpowiedź")+SUMIFS('Lista'!$E$2:$E$201,'Lista'!$G$2:$G$201,"Czeka na odpowiedź") | D5: 2 | E5: =SUMIFS('Lista'!$D$2:$D$201,'Lista'!$K$2:$K$201,D5,'Lista'!$G$2:$G$201,"<>Odmowa")+SUMIFS('Lista'!$E$2:$E$201,'Lista'!$K$2:$K$201,D5,'Lista'!$G$2:$G$201,"<>Odmowa")
A6: Odmowy | B6: =SUMIFS('Lista'!$D$2:$D$201,'Lista'!$G$2:$G$201,"Odmowa")+SUMIFS('Lista'!$E$2:$E$201,'Lista'!$G$2:$G$201,"Odmowa") | D6: 3 | E6: =SUMIFS('Lista'!$D$2:$D$201,'Lista'!$K$2:$K$201,D6,'Lista'!$G$2:$G$201,"<>Odmowa")+SUMIFS('Lista'!$E$2:$E$201,'Lista'!$K$2:$K$201,D6,'Lista'!$G$2:$G$201,"<>Odmowa")
A7: Dorośli (bez odmów) | B7: =SUM('Lista'!$D$2:$D$201)-SUMIFS('Lista'!$D$2:$D$201,'Lista'!$G$2:$G$201,"Odmowa") | D7: 4 | E7: =SUMIFS('Lista'!$D$2:$D$201,'Lista'!$K$2:$K$201,D7,'Lista'!$G$2:$G$201,"<>Odmowa")+SUMIFS('Lista'!$E$2:$E$201,'Lista'!$K$2:$K$201,D7,'Lista'!$G$2:$G$201,"<>Odmowa")
A8: Dzieci (bez odmów) | B8: =SUM('Lista'!$E$2:$E$201)-SUMIFS('Lista'!$E$2:$E$201,'Lista'!$G$2:$G$201,"Odmowa") | D8: 5 | E8: =SUMIFS('Lista'!$D$2:$D$201,'Lista'!$K$2:$K$201,D8,'Lista'!$G$2:$G$201,"<>Odmowa")+SUMIFS('Lista'!$E$2:$E$201,'Lista'!$K$2:$K$201,D8,'Lista'!$G$2:$G$201,"<>Odmowa")
A9: Noclegi (osoby) | B9: =SUMIFS('Lista'!$D$2:$D$201,'Lista'!$H$2:$H$201,"<>",'Lista'!$G$2:$G$201,"<>Odmowa")+SUMIFS('Lista'!$E$2:$E$201,'Lista'!$H$2:$H$201,"<>",'Lista'!$G$2:$G$201,"<>Odmowa") | D9: 6 | E9: =SUMIFS('Lista'!$D$2:$D$201,'Lista'!$K$2:$K$201,D9,'Lista'!$G$2:$G$201,"<>Odmowa")+SUMIFS('Lista'!$E$2:$E$201,'Lista'!$K$2:$K$201,D9,'Lista'!$G$2:$G$201,"<>Odmowa")
A10: Transport (osoby) | B10: =SUMIFS('Lista'!$D$2:$D$201,'Lista'!$I$2:$I$201,"<>",'Lista'!$G$2:$G$201,"<>Odmowa")+SUMIFS('Lista'!$E$2:$E$201,'Lista'!$I$2:$I$201,"<>",'Lista'!$G$2:$G$201,"<>Odmowa") | D10: 7 | E10: =SUMIFS('Lista'!$D$2:$D$201,'Lista'!$K$2:$K$201,D10,'Lista'!$G$2:$G$201,"<>Odmowa")+SUMIFS('Lista'!$E$2:$E$201,'Lista'!$K$2:$K$201,D10,'Lista'!$G$2:$G$201,"<>Odmowa")
A11: Diety (pozycje) | B11: =COUNTIFS('Lista'!$J$2:$J$201,"<>",'Lista'!$G$2:$G$201,"<>Odmowa",'Lista'!$B$2:$B$201,"<>") | D11: 8 | E11: =SUMIFS('Lista'!$D$2:$D$201,'Lista'!$K$2:$K$201,D11,'Lista'!$G$2:$G$201,"<>Odmowa")+SUMIFS('Lista'!$E$2:$E$201,'Lista'!$K$2:$K$201,D11,'Lista'!$G$2:$G$201,"<>Odmowa")
A12: Do zdjęć grupowych (pozycje) | B12: =COUNTIFS('Lista'!$L$2:$L$201,"<>",'Lista'!$G$2:$G$201,"<>Odmowa",'Lista'!$B$2:$B$201,"<>") | D12: 9 | E12: =SUMIFS('Lista'!$D$2:$D$201,'Lista'!$K$2:$K$201,D12,'Lista'!$G$2:$G$201,"<>Odmowa")+SUMIFS('Lista'!$E$2:$E$201,'Lista'!$K$2:$K$201,D12,'Lista'!$G$2:$G$201,"<>Odmowa")
D13: 10 | E13: =SUMIFS('Lista'!$D$2:$D$201,'Lista'!$K$2:$K$201,D13,'Lista'!$G$2:$G$201,"<>Odmowa")+SUMIFS('Lista'!$E$2:$E$201,'Lista'!$K$2:$K$201,D13,'Lista'!$G$2:$G$201,"<>Odmowa")
A14: Według strony (bez odmów) | D14: 11 | E14: =SUMIFS('Lista'!$D$2:$D$201,'Lista'!$K$2:$K$201,D14,'Lista'!$G$2:$G$201,"<>Odmowa")+SUMIFS('Lista'!$E$2:$E$201,'Lista'!$K$2:$K$201,D14,'Lista'!$G$2:$G$201,"<>Odmowa")
A15: Panna Młoda | B15: =SUMIFS('Lista'!$D$2:$D$201,'Lista'!$C$2:$C$201,"Panna Młoda",'Lista'!$G$2:$G$201,"<>Odmowa")+SUMIFS('Lista'!$E$2:$E$201,'Lista'!$C$2:$C$201,"Panna Młoda",'Lista'!$G$2:$G$201,"<>Odmowa") | D15: 12 | E15: =SUMIFS('Lista'!$D$2:$D$201,'Lista'!$K$2:$K$201,D15,'Lista'!$G$2:$G$201,"<>Odmowa")+SUMIFS('Lista'!$E$2:$E$201,'Lista'!$K$2:$K$201,D15,'Lista'!$G$2:$G$201,"<>Odmowa")
A16: Pan Młody | B16: =SUMIFS('Lista'!$D$2:$D$201,'Lista'!$C$2:$C$201,"Pan Młody",'Lista'!$G$2:$G$201,"<>Odmowa")+SUMIFS('Lista'!$E$2:$E$201,'Lista'!$C$2:$C$201,"Pan Młody",'Lista'!$G$2:$G$201,"<>Odmowa") | D16: 13 | E16: =SUMIFS('Lista'!$D$2:$D$201,'Lista'!$K$2:$K$201,D16,'Lista'!$G$2:$G$201,"<>Odmowa")+SUMIFS('Lista'!$E$2:$E$201,'Lista'!$K$2:$K$201,D16,'Lista'!$G$2:$G$201,"<>Odmowa")
A17: Wspólni | B17: =SUMIFS('Lista'!$D$2:$D$201,'Lista'!$C$2:$C$201,"Wspólni",'Lista'!$G$2:$G$201,"<>Odmowa")+SUMIFS('Lista'!$E$2:$E$201,'Lista'!$C$2:$C$201,"Wspólni",'Lista'!$G$2:$G$201,"<>Odmowa") | D17: 14 | E17: =SUMIFS('Lista'!$D$2:$D$201,'Lista'!$K$2:$K$201,D17,'Lista'!$G$2:$G$201,"<>Odmowa")+SUMIFS('Lista'!$E$2:$E$201,'Lista'!$K$2:$K$201,D17,'Lista'!$G$2:$G$201,"<>Odmowa")
D18: 15 | E18: =SUMIFS('Lista'!$D$2:$D$201,'Lista'!$K$2:$K$201,D18,'Lista'!$G$2:$G$201,"<>Odmowa")+SUMIFS('Lista'!$E$2:$E$201,'Lista'!$K$2:$K$201,D18,'Lista'!$G$2:$G$201,"<>Odmowa")
A19: Cena talerzyka, zł (wpiszcie swoją) | B19: 450 | D19: 16 | E19: =SUMIFS('Lista'!$D$2:$D$201,'Lista'!$K$2:$K$201,D19,'Lista'!$G$2:$G$201,"<>Odmowa")+SUMIFS('Lista'!$E$2:$E$201,'Lista'!$K$2:$K$201,D19,'Lista'!$G$2:$G$201,"<>Odmowa")
A20: Koszt orientacyjny, zł (dzieci za pół ceny) | B20: =B19*(B7+B8/2) | D20: 17 | E20: =SUMIFS('Lista'!$D$2:$D$201,'Lista'!$K$2:$K$201,D20,'Lista'!$G$2:$G$201,"<>Odmowa")+SUMIFS('Lista'!$E$2:$E$201,'Lista'!$K$2:$K$201,D20,'Lista'!$G$2:$G$201,"<>Odmowa")
D21: 18 | E21: =SUMIFS('Lista'!$D$2:$D$201,'Lista'!$K$2:$K$201,D21,'Lista'!$G$2:$G$201,"<>Odmowa")+SUMIFS('Lista'!$E$2:$E$201,'Lista'!$K$2:$K$201,D21,'Lista'!$G$2:$G$201,"<>Odmowa")
D22: 19 | E22: =SUMIFS('Lista'!$D$2:$D$201,'Lista'!$K$2:$K$201,D22,'Lista'!$G$2:$G$201,"<>Odmowa")+SUMIFS('Lista'!$E$2:$E$201,'Lista'!$K$2:$K$201,D22,'Lista'!$G$2:$G$201,"<>Odmowa")
D23: 20 | E23: =SUMIFS('Lista'!$D$2:$D$201,'Lista'!$K$2:$K$201,D23,'Lista'!$G$2:$G$201,"<>Odmowa")+SUMIFS('Lista'!$E$2:$E$201,'Lista'!$K$2:$K$201,D23,'Lista'!$G$2:$G$201,"<>Odmowa")
D24: 21 | E24: =SUMIFS('Lista'!$D$2:$D$201,'Lista'!$K$2:$K$201,D24,'Lista'!$G$2:$G$201,"<>Odmowa")+SUMIFS('Lista'!$E$2:$E$201,'Lista'!$K$2:$K$201,D24,'Lista'!$G$2:$G$201,"<>Odmowa")
D25: 22 | E25: =SUMIFS('Lista'!$D$2:$D$201,'Lista'!$K$2:$K$201,D25,'Lista'!$G$2:$G$201,"<>Odmowa")+SUMIFS('Lista'!$E$2:$E$201,'Lista'!$K$2:$K$201,D25,'Lista'!$G$2:$G$201,"<>Odmowa")
D26: 23 | E26: =SUMIFS('Lista'!$D$2:$D$201,'Lista'!$K$2:$K$201,D26,'Lista'!$G$2:$G$201,"<>Odmowa")+SUMIFS('Lista'!$E$2:$E$201,'Lista'!$K$2:$K$201,D26,'Lista'!$G$2:$G$201,"<>Odmowa")
D27: 24 | E27: =SUMIFS('Lista'!$D$2:$D$201,'Lista'!$K$2:$K$201,D27,'Lista'!$G$2:$G$201,"<>Odmowa")+SUMIFS('Lista'!$E$2:$E$201,'Lista'!$K$2:$K$201,D27,'Lista'!$G$2:$G$201,"<>Odmowa")
D28: 25 | E28: =SUMIFS('Lista'!$D$2:$D$201,'Lista'!$K$2:$K$201,D28,'Lista'!$G$2:$G$201,"<>Odmowa")+SUMIFS('Lista'!$E$2:$E$201,'Lista'!$K$2:$K$201,D28,'Lista'!$G$2:$G$201,"<>Odmowa")
D29: 26 | E29: =SUMIFS('Lista'!$D$2:$D$201,'Lista'!$K$2:$K$201,D29,'Lista'!$G$2:$G$201,"<>Odmowa")+SUMIFS('Lista'!$E$2:$E$201,'Lista'!$K$2:$K$201,D29,'Lista'!$G$2:$G$201,"<>Odmowa")
D30: 27 | E30: =SUMIFS('Lista'!$D$2:$D$201,'Lista'!$K$2:$K$201,D30,'Lista'!$G$2:$G$201,"<>Odmowa")+SUMIFS('Lista'!$E$2:$E$201,'Lista'!$K$2:$K$201,D30,'Lista'!$G$2:$G$201,"<>Odmowa")
D31: 28 | E31: =SUMIFS('Lista'!$D$2:$D$201,'Lista'!$K$2:$K$201,D31,'Lista'!$G$2:$G$201,"<>Odmowa")+SUMIFS('Lista'!$E$2:$E$201,'Lista'!$K$2:$K$201,D31,'Lista'!$G$2:$G$201,"<>Odmowa")
D32: 29 | E32: =SUMIFS('Lista'!$D$2:$D$201,'Lista'!$K$2:$K$201,D32,'Lista'!$G$2:$G$201,"<>Odmowa")+SUMIFS('Lista'!$E$2:$E$201,'Lista'!$K$2:$K$201,D32,'Lista'!$G$2:$G$201,"<>Odmowa")
D33: 30 | E33: =SUMIFS('Lista'!$D$2:$D$201,'Lista'!$K$2:$K$201,D33,'Lista'!$G$2:$G$201,"<>Odmowa")+SUMIFS('Lista'!$E$2:$E$201,'Lista'!$K$2:$K$201,D33,'Lista'!$G$2:$G$201,"<>Odmowa")

Sheet Zdjęcia grupowe
A1: Lista do zdjęć grupowych
A2: Lista uzupełnia się sama z arkusza „Lista” (bez odmów). Niczego tu nie wpisujcie.
A3: Lp. | B3: Gość lub para | C3: Stolik
A4: =IF(B4="","",ROW()-3) | B4: =IFERROR(INDEX('Lista'!$B$2:$B$201,MATCH(ROW()-3,'Lista'!$O$2:$O$201,0)),"") | C4: =IFERROR(IF(INDEX('Lista'!$K$2:$K$201,MATCH(ROW()-3,'Lista'!$O$2:$O$201,0))="","",INDEX('Lista'!$K$2:$K$201,MATCH(ROW()-3,'Lista'!$O$2:$O$201,0))),"")
A5: =IF(B5="","",ROW()-3) | B5: =IFERROR(INDEX('Lista'!$B$2:$B$201,MATCH(ROW()-3,'Lista'!$O$2:$O$201,0)),"") | C5: =IFERROR(IF(INDEX('Lista'!$K$2:$K$201,MATCH(ROW()-3,'Lista'!$O$2:$O$201,0))="","",INDEX('Lista'!$K$2:$K$201,MATCH(ROW()-3,'Lista'!$O$2:$O$201,0))),"")
A6: =IF(B6="","",ROW()-3) | B6: =IFERROR(INDEX('Lista'!$B$2:$B$201,MATCH(ROW()-3,'Lista'!$O$2:$O$201,0)),"") | C6: =IFERROR(IF(INDEX('Lista'!$K$2:$K$201,MATCH(ROW()-3,'Lista'!$O$2:$O$201,0))="","",INDEX('Lista'!$K$2:$K$201,MATCH(ROW()-3,'Lista'!$O$2:$O$201,0))),"")
A7: =IF(B7="","",ROW()-3) | B7: =IFERROR(INDEX('Lista'!$B$2:$B$201,MATCH(ROW()-3,'Lista'!$O$2:$O$201,0)),"") | C7: =IFERROR(IF(INDEX('Lista'!$K$2:$K$201,MATCH(ROW()-3,'Lista'!$O$2:$O$201,0))="","",INDEX('Lista'!$K$2:$K$201,MATCH(ROW()-3,'Lista'!$O$2:$O$201,0))),"")
A8: =IF(B8="","",ROW()-3) | B8: =IFERROR(INDEX('Lista'!$B$2:$B$201,MATCH(ROW()-3,'Lista'!$O$2:$O$201,0)),"") | C8: =IFERROR(IF(INDEX('Lista'!$K$2:$K$201,MATCH(ROW()-3,'Lista'!$O$2:$O$201,0))="","",INDEX('Lista'!$K$2:$K$201,MATCH(ROW()-3,'Lista'!$O$2:$O$201,0))),"")
A9: =IF(B9="","",ROW()-3) | B9: =IFERROR(INDEX('Lista'!$B$2:$B$201,MATCH(ROW()-3,'Lista'!$O$2:$O$201,0)),"") | C9: =IFERROR(IF(INDEX('Lista'!$K$2:$K$201,MATCH(ROW()-3,'Lista'!$O$2:$O$201,0))="","",INDEX('Lista'!$K$2:$K$201,MATCH(ROW()-3,'Lista'!$O$2:$O$201,0))),"")
A10: =IF(B10="","",ROW()-3) | B10: =IFERROR(INDEX('Lista'!$B$2:$B$201,MATCH(ROW()-3,'Lista'!$O$2:$O$201,0)),"") | C10: =IFERROR(IF(INDEX('Lista'!$K$2:$K$201,MATCH(ROW()-3,'Lista'!$O$2:$O$201,0))="","",INDEX('Lista'!$K$2:$K$201,MATCH(ROW()-3,'Lista'!$O$2:$O$201,0))),"")
A11: =IF(B11="","",ROW()-3) | B11: =IFERROR(INDEX('Lista'!$B$2:$B$201,MATCH(ROW()-3,'Lista'!$O$2:$O$201,0)),"") | C11: =IFERROR(IF(INDEX('Lista'!$K$2:$K$201,MATCH(ROW()-3,'Lista'!$O$2:$O$201,0))="","",INDEX('Lista'!$K$2:$K$201,MATCH(ROW()-3,'Lista'!$O$2:$O$201,0))),"")
A12: =IF(B12="","",ROW()-3) | B12: =IFERROR(INDEX('Lista'!$B$2:$B$201,MATCH(ROW()-3,'Lista'!$O$2:$O$201,0)),"") | C12: =IFERROR(IF(INDEX('Lista'!$K$2:$K$201,MATCH(ROW()-3,'Lista'!$O$2:$O$201,0))="","",INDEX('Lista'!$K$2:$K$201,MATCH(ROW()-3,'Lista'!$O$2:$O$201,0))),"")
A13: =IF(B13="","",ROW()-3) | B13: =IFERROR(INDEX('Lista'!$B$2:$B$201,MATCH(ROW()-3,'Lista'!$O$2:$O$201,0)),"") | C13: =IFERROR(IF(INDEX('Lista'!$K$2:$K$201,MATCH(ROW()-3,'Lista'!$O$2:$O$201,0))="","",INDEX('Lista'!$K$2:$K$201,MATCH(ROW()-3,'Lista'!$O$2:$O$201,0))),"")
A14: =IF(B14="","",ROW()-3) | B14: =IFERROR(INDEX('Lista'!$B$2:$B$201,MATCH(ROW()-3,'Lista'!$O$2:$O$201,0)),"") | C14: =IFERROR(IF(INDEX('Lista'!$K$2:$K$201,MATCH(ROW()-3,'Lista'!$O$2:$O$201,0))="","",INDEX('Lista'!$K$2:$K$201,MATCH(ROW()-3,'Lista'!$O$2:$O$201,0))),"")
A15: =IF(B15="","",ROW()-3) | B15: =IFERROR(INDEX('Lista'!$B$2:$B$201,MATCH(ROW()-3,'Lista'!$O$2:$O$201,0)),"") | C15: =IFERROR(IF(INDEX('Lista'!$K$2:$K$201,MATCH(ROW()-3,'Lista'!$O$2:$O$201,0))="","",INDEX('Lista'!$K$2:$K$201,MATCH(ROW()-3,'Lista'!$O$2:$O$201,0))),"")
... A153: =IF(B153="","",ROW()-3) | B153: =IFERROR(INDEX('Lista'!$B$2:$B$201,MATCH(ROW()-3,'Lista'!$O$2:$O$201,0)),"") | C153: =IFERROR(IF(INDEX('Lista'!$K$2:$K$201,MATCH(ROW()-3,'Lista'!$O$2:$O$201,0))="","",INDEX('Lista'!$K$2:$K$201,MATCH(ROW()-3,'Lista'!$O$2:$O$201,0))),"")

Sheet Noclegi
A1: Lista noclegów
A2: Lista uzupełnia się sama z arkusza „Lista” (bez odmów). Niczego tu nie wpisujcie.
A3: Lp. | B3: Gość lub para | C3: Osoby | D3: Stolik
A4: =IF(B4="","",ROW()-3) | B4: =IFERROR(INDEX('Lista'!$B$2:$B$201,MATCH(ROW()-3,'Lista'!$P$2:$P$201,0)),"") | C4: =IFERROR(INDEX('Lista'!$D$2:$D$201,MATCH(ROW()-3,'Lista'!$P$2:$P$201,0))+INDEX('Lista'!$E$2:$E$201,MATCH(ROW()-3,'Lista'!$P$2:$P$201,0)),"") | D4: =IFERROR(IF(INDEX('Lista'!$K$2:$K$201,MATCH(ROW()-3,'Lista'!$P$2:$P$201,0))="","",INDEX('Lista'!$K$2:$K$201,MATCH(ROW()-3,'Lista'!$P$2:$P$201,0))),"")
A5: =IF(B5="","",ROW()-3) | B5: =IFERROR(INDEX('Lista'!$B$2:$B$201,MATCH(ROW()-3,'Lista'!$P$2:$P$201,0)),"") | C5: =IFERROR(INDEX('Lista'!$D$2:$D$201,MATCH(ROW()-3,'Lista'!$P$2:$P$201,0))+INDEX('Lista'!$E$2:$E$201,MATCH(ROW()-3,'Lista'!$P$2:$P$201,0)),"") | D5: =IFERROR(IF(INDEX('Lista'!$K$2:$K$201,MATCH(ROW()-3,'Lista'!$P$2:$P$201,0))="","",INDEX('Lista'!$K$2:$K$201,MATCH(ROW()-3,'Lista'!$P$2:$P$201,0))),"")
A6: =IF(B6="","",ROW()-3) | B6: =IFERROR(INDEX('Lista'!$B$2:$B$201,MATCH(ROW()-3,'Lista'!$P$2:$P$201,0)),"") | C6: =IFERROR(INDEX('Lista'!$D$2:$D$201,MATCH(ROW()-3,'Lista'!$P$2:$P$201,0))+INDEX('Lista'!$E$2:$E$201,MATCH(ROW()-3,'Lista'!$P$2:$P$201,0)),"") | D6: =IFERROR(IF(INDEX('Lista'!$K$2:$K$201,MATCH(ROW()-3,'Lista'!$P$2:$P$201,0))="","",INDEX('Lista'!$K$2:$K$201,MATCH(ROW()-3,'Lista'!$P$2:$P$201,0))),"")
A7: =IF(B7="","",ROW()-3) | B7: =IFERROR(INDEX('Lista'!$B$2:$B$201,MATCH(ROW()-3,'Lista'!$P$2:$P$201,0)),"") | C7: =IFERROR(INDEX('Lista'!$D$2:$D$201,MATCH(ROW()-3,'Lista'!$P$2:$P$201,0))+INDEX('Lista'!$E$2:$E$201,MATCH(ROW()-3,'Lista'!$P$2:$P$201,0)),"") | D7: =IFERROR(IF(INDEX('Lista'!$K$2:$K$201,MATCH(ROW()-3,'Lista'!$P$2:$P$201,0))="","",INDEX('Lista'!$K$2:$K$201,MATCH(ROW()-3,'Lista'!$P$2:$P$201,0))),"")
A8: =IF(B8="","",ROW()-3) | B8: =IFERROR(INDEX('Lista'!$B$2:$B$201,MATCH(ROW()-3,'Lista'!$P$2:$P$201,0)),"") | C8: =IFERROR(INDEX('Lista'!$D$2:$D$201,MATCH(ROW()-3,'Lista'!$P$2:$P$201,0))+INDEX('Lista'!$E$2:$E$201,MATCH(ROW()-3,'Lista'!$P$2:$P$201,0)),"") | D8: =IFERROR(IF(INDEX('Lista'!$K$2:$K$201,MATCH(ROW()-3,'Lista'!$P$2:$P$201,0))="","",INDEX('Lista'!$K$2:$K$201,MATCH(ROW()-3,'Lista'!$P$2:$P$201,0))),"")
A9: =IF(B9="","",ROW()-3) | B9: =IFERROR(INDEX('Lista'!$B$2:$B$201,MATCH(ROW()-3,'Lista'!$P$2:$P$201,0)),"") | C9: =IFERROR(INDEX('Lista'!$D$2:$D$201,MATCH(ROW()-3,'Lista'!$P$2:$P$201,0))+INDEX('Lista'!$E$2:$E$201,MATCH(ROW()-3,'Lista'!$P$2:$P$201,0)),"") | D9: =IFERROR(IF(INDEX('Lista'!$K$2:$K$201,MATCH(ROW()-3,'Lista'!$P$2:$P$201,0))="","",INDEX('Lista'!$K$2:$K$201,MATCH(ROW()-3,'Lista'!$P$2:$P$201,0))),"")
A10: =IF(B10="","",ROW()-3) | B10: =IFERROR(INDEX('Lista'!$B$2:$B$201,MATCH(ROW()-3,'Lista'!$P$2:$P$201,0)),"") | C10: =IFERROR(INDEX('Lista'!$D$2:$D$201,MATCH(ROW()-3,'Lista'!$P$2:$P$201,0))+INDEX('Lista'!$E$2:$E$201,MATCH(ROW()-3,'Lista'!$P$2:$P$201,0)),"") | D10: =IFERROR(IF(INDEX('Lista'!$K$2:$K$201,MATCH(ROW()-3,'Lista'!$P$2:$P$201,0))="","",INDEX('Lista'!$K$2:$K$201,MATCH(ROW()-3,'Lista'!$P$2:$P$201,0))),"")
A11: =IF(B11="","",ROW()-3) | B11: =IFERROR(INDEX('Lista'!$B$2:$B$201,MATCH(ROW()-3,'Lista'!$P$2:$P$201,0)),"") | C11: =IFERROR(INDEX('Lista'!$D$2:$D$201,MATCH(ROW()-3,'Lista'!$P$2:$P$201,0))+INDEX('Lista'!$E$2:$E$201,MATCH(ROW()-3,'Lista'!$P$2:$P$201,0)),"") | D11: =IFERROR(IF(INDEX('Lista'!$K$2:$K$201,MATCH(ROW()-3,'Lista'!$P$2:$P$201,0))="","",INDEX('Lista'!$K$2:$K$201,MATCH(ROW()-3,'Lista'!$P$2:$P$201,0))),"")
A12: =IF(B12="","",ROW()-3) | B12: =IFERROR(INDEX('Lista'!$B$2:$B$201,MATCH(ROW()-3,'Lista'!$P$2:$P$201,0)),"") | C12: =IFERROR(INDEX('Lista'!$D$2:$D$201,MATCH(ROW()-3,'Lista'!$P$2:$P$201,0))+INDEX('Lista'!$E$2:$E$201,MATCH(ROW()-3,'Lista'!$P$2:$P$201,0)),"") | D12: =IFERROR(IF(INDEX('Lista'!$K$2:$K$201,MATCH(ROW()-3,'Lista'!$P$2:$P$201,0))="","",INDEX('Lista'!$K$2:$K$201,MATCH(ROW()-3,'Lista'!$P$2:$P$201,0))),"")
A13: =IF(B13="","",ROW()-3) | B13: =IFERROR(INDEX('Lista'!$B$2:$B$201,MATCH(ROW()-3,'Lista'!$P$2:$P$201,0)),"") | C13: =IFERROR(INDEX('Lista'!$D$2:$D$201,MATCH(ROW()-3,'Lista'!$P$2:$P$201,0))+INDEX('Lista'!$E$2:$E$201,MATCH(ROW()-3,'Lista'!$P$2:$P$201,0)),"") | D13: =IFERROR(IF(INDEX('Lista'!$K$2:$K$201,MATCH(ROW()-3,'Lista'!$P$2:$P$201,0))="","",INDEX('Lista'!$K$2:$K$201,MATCH(ROW()-3,'Lista'!$P$2:$P$201,0))),"")
A14: =IF(B14="","",ROW()-3) | B14: =IFERROR(INDEX('Lista'!$B$2:$B$201,MATCH(ROW()-3,'Lista'!$P$2:$P$201,0)),"") | C14: =IFERROR(INDEX('Lista'!$D$2:$D$201,MATCH(ROW()-3,'Lista'!$P$2:$P$201,0))+INDEX('Lista'!$E$2:$E$201,MATCH(ROW()-3,'Lista'!$P$2:$P$201,0)),"") | D14: =IFERROR(IF(INDEX('Lista'!$K$2:$K$201,MATCH(ROW()-3,'Lista'!$P$2:$P$201,0))="","",INDEX('Lista'!$K$2:$K$201,MATCH(ROW()-3,'Lista'!$P$2:$P$201,0))),"")
A15: =IF(B15="","",ROW()-3) | B15: =IFERROR(INDEX('Lista'!$B$2:$B$201,MATCH(ROW()-3,'Lista'!$P$2:$P$201,0)),"") | C15: =IFERROR(INDEX('Lista'!$D$2:$D$201,MATCH(ROW()-3,'Lista'!$P$2:$P$201,0))+INDEX('Lista'!$E$2:$E$201,MATCH(ROW()-3,'Lista'!$P$2:$P$201,0)),"") | D15: =IFERROR(IF(INDEX('Lista'!$K$2:$K$201,MATCH(ROW()-3,'Lista'!$P$2:$P$201,0))="","",INDEX('Lista'!$K$2:$K$201,MATCH(ROW()-3,'Lista'!$P$2:$P$201,0))),"")
... A153: =IF(B153="","",ROW()-3) | B153: =IFERROR(INDEX('Lista'!$B$2:$B$201,MATCH(ROW()-3,'Lista'!$P$2:$P$201,0)),"") | C153: =IFERROR(INDEX('Lista'!$D$2:$D$201,MATCH(ROW()-3,'Lista'!$P$2:$P$201,0))+INDEX('Lista'!$E$2:$E$201,MATCH(ROW()-3,'Lista'!$P$2:$P$201,0)),"") | D153: =IFERROR(IF(INDEX('Lista'!$K$2:$K$201,MATCH(ROW()-3,'Lista'!$P$2:$P$201,0))="","",INDEX('Lista'!$K$2:$K$201,MATCH(ROW()-3,'Lista'!$P$2:$P$201,0))),"")

Sheet Transport
A1: Lista transportu
A2: Lista uzupełnia się sama z arkusza „Lista” (bez odmów). Niczego tu nie wpisujcie.
A3: Lp. | B3: Gość lub para | C3: Osoby | D3: Stolik
A4: =IF(B4="","",ROW()-3) | B4: =IFERROR(INDEX('Lista'!$B$2:$B$201,MATCH(ROW()-3,'Lista'!$Q$2:$Q$201,0)),"") | C4: =IFERROR(INDEX('Lista'!$D$2:$D$201,MATCH(ROW()-3,'Lista'!$Q$2:$Q$201,0))+INDEX('Lista'!$E$2:$E$201,MATCH(ROW()-3,'Lista'!$Q$2:$Q$201,0)),"") | D4: =IFERROR(IF(INDEX('Lista'!$K$2:$K$201,MATCH(ROW()-3,'Lista'!$Q$2:$Q$201,0))="","",INDEX('Lista'!$K$2:$K$201,MATCH(ROW()-3,'Lista'!$Q$2:$Q$201,0))),"")
A5: =IF(B5="","",ROW()-3) | B5: =IFERROR(INDEX('Lista'!$B$2:$B$201,MATCH(ROW()-3,'Lista'!$Q$2:$Q$201,0)),"") | C5: =IFERROR(INDEX('Lista'!$D$2:$D$201,MATCH(ROW()-3,'Lista'!$Q$2:$Q$201,0))+INDEX('Lista'!$E$2:$E$201,MATCH(ROW()-3,'Lista'!$Q$2:$Q$201,0)),"") | D5: =IFERROR(IF(INDEX('Lista'!$K$2:$K$201,MATCH(ROW()-3,'Lista'!$Q$2:$Q$201,0))="","",INDEX('Lista'!$K$2:$K$201,MATCH(ROW()-3,'Lista'!$Q$2:$Q$201,0))),"")
A6: =IF(B6="","",ROW()-3) | B6: =IFERROR(INDEX('Lista'!$B$2:$B$201,MATCH(ROW()-3,'Lista'!$Q$2:$Q$201,0)),"") | C6: =IFERROR(INDEX('Lista'!$D$2:$D$201,MATCH(ROW()-3,'Lista'!$Q$2:$Q$201,0))+INDEX('Lista'!$E$2:$E$201,MATCH(ROW()-3,'Lista'!$Q$2:$Q$201,0)),"") | D6: =IFERROR(IF(INDEX('Lista'!$K$2:$K$201,MATCH(ROW()-3,'Lista'!$Q$2:$Q$201,0))="","",INDEX('Lista'!$K$2:$K$201,MATCH(ROW()-3,'Lista'!$Q$2:$Q$201,0))),"")
A7: =IF(B7="","",ROW()-3) | B7: =IFERROR(INDEX('Lista'!$B$2:$B$201,MATCH(ROW()-3,'Lista'!$Q$2:$Q$201,0)),"") | C7: =IFERROR(INDEX('Lista'!$D$2:$D$201,MATCH(ROW()-3,'Lista'!$Q$2:$Q$201,0))+INDEX('Lista'!$E$2:$E$201,MATCH(ROW()-3,'Lista'!$Q$2:$Q$201,0)),"") | D7: =IFERROR(IF(INDEX('Lista'!$K$2:$K$201,MATCH(ROW()-3,'Lista'!$Q$2:$Q$201,0))="","",INDEX('Lista'!$K$2:$K$201,MATCH(ROW()-3,'Lista'!$Q$2:$Q$201,0))),"")
A8: =IF(B8="","",ROW()-3) | B8: =IFERROR(INDEX('Lista'!$B$2:$B$201,MATCH(ROW()-3,'Lista'!$Q$2:$Q$201,0)),"") | C8: =IFERROR(INDEX('Lista'!$D$2:$D$201,MATCH(ROW()-3,'Lista'!$Q$2:$Q$201,0))+INDEX('Lista'!$E$2:$E$201,MATCH(ROW()-3,'Lista'!$Q$2:$Q$201,0)),"") | D8: =IFERROR(IF(INDEX('Lista'!$K$2:$K$201,MATCH(ROW()-3,'Lista'!$Q$2:$Q$201,0))="","",INDEX('Lista'!$K$2:$K$201,MATCH(ROW()-3,'Lista'!$Q$2:$Q$201,0))),"")
A9: =IF(B9="","",ROW()-3) | B9: =IFERROR(INDEX('Lista'!$B$2:$B$201,MATCH(ROW()-3,'Lista'!$Q$2:$Q$201,0)),"") | C9: =IFERROR(INDEX('Lista'!$D$2:$D$201,MATCH(ROW()-3,'Lista'!$Q$2:$Q$201,0))+INDEX('Lista'!$E$2:$E$201,MATCH(ROW()-3,'Lista'!$Q$2:$Q$201,0)),"") | D9: =IFERROR(IF(INDEX('Lista'!$K$2:$K$201,MATCH(ROW()-3,'Lista'!$Q$2:$Q$201,0))="","",INDEX('Lista'!$K$2:$K$201,MATCH(ROW()-3,'Lista'!$Q$2:$Q$201,0))),"")
A10: =IF(B10="","",ROW()-3) | B10: =IFERROR(INDEX('Lista'!$B$2:$B$201,MATCH(ROW()-3,'Lista'!$Q$2:$Q$201,0)),"") | C10: =IFERROR(INDEX('Lista'!$D$2:$D$201,MATCH(ROW()-3,'Lista'!$Q$2:$Q$201,0))+INDEX('Lista'!$E$2:$E$201,MATCH(ROW()-3,'Lista'!$Q$2:$Q$201,0)),"") | D10: =IFERROR(IF(INDEX('Lista'!$K$2:$K$201,MATCH(ROW()-3,'Lista'!$Q$2:$Q$201,0))="","",INDEX('Lista'!$K$2:$K$201,MATCH(ROW()-3,'Lista'!$Q$2:$Q$201,0))),"")
A11: =IF(B11="","",ROW()-3) | B11: =IFERROR(INDEX('Lista'!$B$2:$B$201,MATCH(ROW()-3,'Lista'!$Q$2:$Q$201,0)),"") | C11: =IFERROR(INDEX('Lista'!$D$2:$D$201,MATCH(ROW()-3,'Lista'!$Q$2:$Q$201,0))+INDEX('Lista'!$E$2:$E$201,MATCH(ROW()-3,'Lista'!$Q$2:$Q$201,0)),"") | D11: =IFERROR(IF(INDEX('Lista'!$K$2:$K$201,MATCH(ROW()-3,'Lista'!$Q$2:$Q$201,0))="","",INDEX('Lista'!$K$2:$K$201,MATCH(ROW()-3,'Lista'!$Q$2:$Q$201,0))),"")
A12: =IF(B12="","",ROW()-3) | B12: =IFERROR(INDEX('Lista'!$B$2:$B$201,MATCH(ROW()-3,'Lista'!$Q$2:$Q$201,0)),"") | C12: =IFERROR(INDEX('Lista'!$D$2:$D$201,MATCH(ROW()-3,'Lista'!$Q$2:$Q$201,0))+INDEX('Lista'!$E$2:$E$201,MATCH(ROW()-3,'Lista'!$Q$2:$Q$201,0)),"") | D12: =IFERROR(IF(INDEX('Lista'!$K$2:$K$201,MATCH(ROW()-3,'Lista'!$Q$2:$Q$201,0))="","",INDEX('Lista'!$K$2:$K$201,MATCH(ROW()-3,'Lista'!$Q$2:$Q$201,0))),"")
A13: =IF(B13="","",ROW()-3) | B13: =IFERROR(INDEX('Lista'!$B$2:$B$201,MATCH(ROW()-3,'Lista'!$Q$2:$Q$201,0)),"") | C13: =IFERROR(INDEX('Lista'!$D$2:$D$201,MATCH(ROW()-3,'Lista'!$Q$2:$Q$201,0))+INDEX('Lista'!$E$2:$E$201,MATCH(ROW()-3,'Lista'!$Q$2:$Q$201,0)),"") | D13: =IFERROR(IF(INDEX('Lista'!$K$2:$K$201,MATCH(ROW()-3,'Lista'!$Q$2:$Q$201,0))="","",INDEX('Lista'!$K$2:$K$201,MATCH(ROW()-3,'Lista'!$Q$2:$Q$201,0))),"")
A14: =IF(B14="","",ROW()-3) | B14: =IFERROR(INDEX('Lista'!$B$2:$B$201,MATCH(ROW()-3,'Lista'!$Q$2:$Q$201,0)),"") | C14: =IFERROR(INDEX('Lista'!$D$2:$D$201,MATCH(ROW()-3,'Lista'!$Q$2:$Q$201,0))+INDEX('Lista'!$E$2:$E$201,MATCH(ROW()-3,'Lista'!$Q$2:$Q$201,0)),"") | D14: =IFERROR(IF(INDEX('Lista'!$K$2:$K$201,MATCH(ROW()-3,'Lista'!$Q$2:$Q$201,0))="","",INDEX('Lista'!$K$2:$K$201,MATCH(ROW()-3,'Lista'!$Q$2:$Q$201,0))),"")
A15: =IF(B15="","",ROW()-3) | B15: =IFERROR(INDEX('Lista'!$B$2:$B$201,MATCH(ROW()-3,'Lista'!$Q$2:$Q$201,0)),"") | C15: =IFERROR(INDEX('Lista'!$D$2:$D$201,MATCH(ROW()-3,'Lista'!$Q$2:$Q$201,0))+INDEX('Lista'!$E$2:$E$201,MATCH(ROW()-3,'Lista'!$Q$2:$Q$201,0)),"") | D15: =IFERROR(IF(INDEX('Lista'!$K$2:$K$201,MATCH(ROW()-3,'Lista'!$Q$2:$Q$201,0))="","",INDEX('Lista'!$K$2:$K$201,MATCH(ROW()-3,'Lista'!$Q$2:$Q$201,0))),"")
... A153: =IF(B153="","",ROW()-3) | B153: =IFERROR(INDEX('Lista'!$B$2:$B$201,MATCH(ROW()-3,'Lista'!$Q$2:$Q$201,0)),"") | C153: =IFERROR(INDEX('Lista'!$D$2:$D$201,MATCH(ROW()-3,'Lista'!$Q$2:$Q$201,0))+INDEX('Lista'!$E$2:$E$201,MATCH(ROW()-3,'Lista'!$Q$2:$Q$201,0)),"") | D153: =IFERROR(IF(INDEX('Lista'!$K$2:$K$201,MATCH(ROW()-3,'Lista'!$Q$2:$Q$201,0))="","",INDEX('Lista'!$K$2:$K$201,MATCH(ROW()-3,'Lista'!$Q$2:$Q$201,0))),"")

Sheet Diety
A1: Diety i alergie
A2: Lista uzupełnia się sama z arkusza „Lista” (bez odmów). Niczego tu nie wpisujcie.
A3: Lp. | B3: Gość lub para | C3: Dieta | D3: Stolik
A4: =IF(B4="","",ROW()-3) | B4: =IFERROR(INDEX('Lista'!$B$2:$B$201,MATCH(ROW()-3,'Lista'!$R$2:$R$201,0)),"") | C4: =IFERROR(INDEX('Lista'!$J$2:$J$201,MATCH(ROW()-3,'Lista'!$R$2:$R$201,0)),"") | D4: =IFERROR(IF(INDEX('Lista'!$K$2:$K$201,MATCH(ROW()-3,'Lista'!$R$2:$R$201,0))="","",INDEX('Lista'!$K$2:$K$201,MATCH(ROW()-3,'Lista'!$R$2:$R$201,0))),"")
A5: =IF(B5="","",ROW()-3) | B5: =IFERROR(INDEX('Lista'!$B$2:$B$201,MATCH(ROW()-3,'Lista'!$R$2:$R$201,0)),"") | C5: =IFERROR(INDEX('Lista'!$J$2:$J$201,MATCH(ROW()-3,'Lista'!$R$2:$R$201,0)),"") | D5: =IFERROR(IF(INDEX('Lista'!$K$2:$K$201,MATCH(ROW()-3,'Lista'!$R$2:$R$201,0))="","",INDEX('Lista'!$K$2:$K$201,MATCH(ROW()-3,'Lista'!$R$2:$R$201,0))),"")
A6: =IF(B6="","",ROW()-3) | B6: =IFERROR(INDEX('Lista'!$B$2:$B$201,MATCH(ROW()-3,'Lista'!$R$2:$R$201,0)),"") | C6: =IFERROR(INDEX('Lista'!$J$2:$J$201,MATCH(ROW()-3,'Lista'!$R$2:$R$201,0)),"") | D6: =IFERROR(IF(INDEX('Lista'!$K$2:$K$201,MATCH(ROW()-3,'Lista'!$R$2:$R$201,0))="","",INDEX('Lista'!$K$2:$K$201,MATCH(ROW()-3,'Lista'!$R$2:$R$201,0))),"")
A7: =IF(B7="","",ROW()-3) | B7: =IFERROR(INDEX('Lista'!$B$2:$B$201,MATCH(ROW()-3,'Lista'!$R$2:$R$201,0)),"") | C7: =IFERROR(INDEX('Lista'!$J$2:$J$201,MATCH(ROW()-3,'Lista'!$R$2:$R$201,0)),"") | D7: =IFERROR(IF(INDEX('Lista'!$K$2:$K$201,MATCH(ROW()-3,'Lista'!$R$2:$R$201,0))="","",INDEX('Lista'!$K$2:$K$201,MATCH(ROW()-3,'Lista'!$R$2:$R$201,0))),"")
A8: =IF(B8="","",ROW()-3) | B8: =IFERROR(INDEX('Lista'!$B$2:$B$201,MATCH(ROW()-3,'Lista'!$R$2:$R$201,0)),"") | C8: =IFERROR(INDEX('Lista'!$J$2:$J$201,MATCH(ROW()-3,'Lista'!$R$2:$R$201,0)),"") | D8: =IFERROR(IF(INDEX('Lista'!$K$2:$K$201,MATCH(ROW()-3,'Lista'!$R$2:$R$201,0))="","",INDEX('Lista'!$K$2:$K$201,MATCH(ROW()-3,'Lista'!$R$2:$R$201,0))),"")
A9: =IF(B9="","",ROW()-3) | B9: =IFERROR(INDEX('Lista'!$B$2:$B$201,MATCH(ROW()-3,'Lista'!$R$2:$R$201,0)),"") | C9: =IFERROR(INDEX('Lista'!$J$2:$J$201,MATCH(ROW()-3,'Lista'!$R$2:$R$201,0)),"") | D9: =IFERROR(IF(INDEX('Lista'!$K$2:$K$201,MATCH(ROW()-3,'Lista'!$R$2:$R$201,0))="","",INDEX('Lista'!$K$2:$K$201,MATCH(ROW()-3,'Lista'!$R$2:$R$201,0))),"")
A10: =IF(B10="","",ROW()-3) | B10: =IFERROR(INDEX('Lista'!$B$2:$B$201,MATCH(ROW()-3,'Lista'!$R$2:$R$201,0)),"") | C10: =IFERROR(INDEX('Lista'!$J$2:$J$201,MATCH(ROW()-3,'Lista'!$R$2:$R$201,0)),"") | D10: =IFERROR(IF(INDEX('Lista'!$K$2:$K$201,MATCH(ROW()-3,'Lista'!$R$2:$R$201,0))="","",INDEX('Lista'!$K$2:$K$201,MATCH(ROW()-3,'Lista'!$R$2:$R$201,0))),"")
A11: =IF(B11="","",ROW()-3) | B11: =IFERROR(INDEX('Lista'!$B$2:$B$201,MATCH(ROW()-3,'Lista'!$R$2:$R$201,0)),"") | C11: =IFERROR(INDEX('Lista'!$J$2:$J$201,MATCH(ROW()-3,'Lista'!$R$2:$R$201,0)),"") | D11: =IFERROR(IF(INDEX('Lista'!$K$2:$K$201,MATCH(ROW()-3,'Lista'!$R$2:$R$201,0))="","",INDEX('Lista'!$K$2:$K$201,MATCH(ROW()-3,'Lista'!$R$2:$R$201,0))),"")
A12: =IF(B12="","",ROW()-3) | B12: =IFERROR(INDEX('Lista'!$B$2:$B$201,MATCH(ROW()-3,'Lista'!$R$2:$R$201,0)),"") | C12: =IFERROR(INDEX('Lista'!$J$2:$J$201,MATCH(ROW()-3,'Lista'!$R$2:$R$201,0)),"") | D12: =IFERROR(IF(INDEX('Lista'!$K$2:$K$201,MATCH(ROW()-3,'Lista'!$R$2:$R$201,0))="","",INDEX('Lista'!$K$2:$K$201,MATCH(ROW()-3,'Lista'!$R$2:$R$201,0))),"")
A13: =IF(B13="","",ROW()-3) | B13: =IFERROR(INDEX('Lista'!$B$2:$B$201,MATCH(ROW()-3,'Lista'!$R$2:$R$201,0)),"") | C13: =IFERROR(INDEX('Lista'!$J$2:$J$201,MATCH(ROW()-3,'Lista'!$R$2:$R$201,0)),"") | D13: =IFERROR(IF(INDEX('Lista'!$K$2:$K$201,MATCH(ROW()-3,'Lista'!$R$2:$R$201,0))="","",INDEX('Lista'!$K$2:$K$201,MATCH(ROW()-3,'Lista'!$R$2:$R$201,0))),"")
A14: =IF(B14="","",ROW()-3) | B14: =IFERROR(INDEX('Lista'!$B$2:$B$201,MATCH(ROW()-3,'Lista'!$R$2:$R$201,0)),"") | C14: =IFERROR(INDEX('Lista'!$J$2:$J$201,MATCH(ROW()-3,'Lista'!$R$2:$R$201,0)),"") | D14: =IFERROR(IF(INDEX('Lista'!$K$2:$K$201,MATCH(ROW()-3,'Lista'!$R$2:$R$201,0))="","",INDEX('Lista'!$K$2:$K$201,MATCH(ROW()-3,'Lista'!$R$2:$R$201,0))),"")
A15: =IF(B15="","",ROW()-3) | B15: =IFERROR(INDEX('Lista'!$B$2:$B$201,MATCH(ROW()-3,'Lista'!$R$2:$R$201,0)),"") | C15: =IFERROR(INDEX('Lista'!$J$2:$J$201,MATCH(ROW()-3,'Lista'!$R$2:$R$201,0)),"") | D15: =IFERROR(IF(INDEX('Lista'!$K$2:$K$201,MATCH(ROW()-3,'Lista'!$R$2:$R$201,0))="","",INDEX('Lista'!$K$2:$K$201,MATCH(ROW()-3,'Lista'!$R$2:$R$201,0))),"")
... A153: =IF(B153="","",ROW()-3) | B153: =IFERROR(INDEX('Lista'!$B$2:$B$201,MATCH(ROW()-3,'Lista'!$R$2:$R$201,0)),"") | C153: =IFERROR(INDEX('Lista'!$J$2:$J$201,MATCH(ROW()-3,'Lista'!$R$2:$R$201,0)),"") | D153: =IFERROR(IF(INDEX('Lista'!$K$2:$K$201,MATCH(ROW()-3,'Lista'!$R$2:$R$201,0))="","",INDEX('Lista'!$K$2:$K$201,MATCH(ROW()-3,'Lista'!$R$2:$R$201,0))),"")

Sheet Instrukcja
A1: Lista gości weselnych: szablon do Excela, LibreOffice i Arkuszy Google.
A3: 1. Jeden wiersz w arkuszu „Lista” to jedno zaproszenie: osoba, para albo rodzina. Wpiszcie, ilu w nim dorosłych i ile dzieci.
A5: 2. Stronę, zaproszenie i odpowiedź wybieracie z listy rozwijanej. Przy noclegu, transporcie i zdjęciu grupowym wpiszcie „tak”.
A7: 3. „Podsumowanie” liczy osoby, noclegi, transport, diety i koszt talerzyka; cenę talerzyka zmieniacie w zaznaczonej komórce.
A9: 4. Arkusze „Zdjęcia grupowe”, „Noclegi”, „Transport” i „Diety” to gotowe listy dla fotografki, hotelu, przewoźnika i sali.
A11: 5. Trzy przykładowe wiersze na górze usuńcie przed startem.
A13: Wersja online z planem stołów: https://weddingbohaichuk.pl/kalkulatory-i-checklisty-slubne/lista-gosci-weselnych/
A15: Przygotowała Anastasia Bohaichuk, fotograf i kamerzysta ślubny.
